BEGIN:VCALENDAR
VERSION:2.0
PRODID:-//BSWG Moers - ECPv6.15.13.1//NONSGML v1.0//EN
CALSCALE:GREGORIAN
METHOD:PUBLISH
X-WR-CALNAME:BSWG Moers
X-ORIGINAL-URL:https://www.bswg-moers.de
X-WR-CALDESC:Veranstaltungen für BSWG Moers
REFRESH-INTERVAL;VALUE=DURATION:PT1H
X-Robots-Tag:noindex
X-PUBLISHED-TTL:PT1H
BEGIN:VTIMEZONE
TZID:UTC
BEGIN:STANDARD
TZOFFSETFROM:+0000
TZOFFSETTO:+0000
TZNAME:UTC
DTSTART:20230101T000000
END:STANDARD
END:VTIMEZONE
BEGIN:VEVENT
DTSTART;TZID=UTC:20260418T120000
DTEND;TZID=UTC:20260418T190000
DTSTAMP:20260420T095642
CREATED:20260107T161432Z
LAST-MODIFIED:20260107T161432Z
UID:24392-1776513600-1776538800@www.bswg-moers.de
SUMMARY:Putz- und Aufräumtag (vereinsintern)
DESCRIPTION:Alles\, was wir beim ersten Putz- und Aufräumtag des Jahres noch nicht geschafft haben\, können wir heute erledigen.  Kompletten Beitrag lesen
URL:https://www.bswg-moers.de/event/putz-und-aufraeumtag-vereinsintern-14
LOCATION:Clubhaus am Waldsee\, Römerstr 790\, Moers\, 47443\, Deutschland
END:VEVENT
BEGIN:VEVENT
DTSTART;TZID=UTC:20260329T141500
DTEND;TZID=UTC:20260329T190000
DTSTAMP:20260420T095642
CREATED:20260107T161243Z
LAST-MODIFIED:20260107T161243Z
UID:24390-1774793700-1774810800@www.bswg-moers.de
SUMMARY:Jahreshauptversammlung und Anpaddeln (vereinsintern)
DESCRIPTION:Die Jahreshauptversammlung steht an und die Paddelsaison wird eröffnet.  Kompletten Beitrag lesen
URL:https://www.bswg-moers.de/event/jahreshauptversammlung-und-anpaddeln-vereinsintern
LOCATION:Clubhaus am Waldsee\, Römerstr 790\, Moers\, 47443\, Deutschland
END:VEVENT
BEGIN:VEVENT
DTSTART;TZID=UTC:20260314T120000
DTEND;TZID=UTC:20260314T190000
DTSTAMP:20260420T095642
CREATED:20260107T161041Z
LAST-MODIFIED:20260107T161041Z
UID:24388-1773489600-1773514800@www.bswg-moers.de
SUMMARY:Putz- und Aufräumtag (vereinsintern)
DESCRIPTION:Unsere Clubräume\, die Bootshalle mit dem Inventar und das Grundstück brauchen nach dem Winter eine Kur. Gemeinsam machen wir uns an die Arbeit.  Kompletten Beitrag lesen
URL:https://www.bswg-moers.de/event/putz-und-aufraeumtag-vereinsintern-13
LOCATION:Clubhaus am Waldsee\, Römerstr 790\, Moers\, 47443\, Deutschland
END:VEVENT
BEGIN:VEVENT
DTSTART;TZID=UTC:20260228T140000
DTEND;TZID=UTC:20260228T190000
DTSTAMP:20260420T095642
CREATED:20260107T160653Z
LAST-MODIFIED:20260107T160741Z
UID:24385-1772287200-1772305200@www.bswg-moers.de
SUMMARY:Spielenachmittag (vereinsintern)
DESCRIPTION:Würfelspiele\, Quizaufgaben und andere vergnügliche Spielideen werden bei unseren blinden\, sehbehinderten und sehenden Mitgliedern unseres Vereins an diesem gemütlichen Nachmittag wieder für viel Spaß sorgen.  Kompletten Beitrag lesen
URL:https://www.bswg-moers.de/event/spielenachmittag-vereinsintern-2
LOCATION:Clubhaus am Waldsee\, Römerstr 790\, Moers\, 47443\, Deutschland
END:VEVENT
BEGIN:VEVENT
DTSTART;TZID=UTC:20260117T140000
DTEND;TZID=UTC:20260117T190000
DTSTAMP:20260420T095642
CREATED:20260107T155740Z
LAST-MODIFIED:20260107T155740Z
UID:24383-1768658400-1768676400@www.bswg-moers.de
SUMMARY:Speisen aus aller Welt (vereinsintern)
DESCRIPTION:Der Winter und der Beginn des Jahres 2026 sind eine schöne Zeit\, um sich zu treffen\, zu plaudern und Pläne für die Paddelsaison 2026 und die Showdown-Aktivitäten zu schmieden.  Kompletten Beitrag lesen
URL:https://www.bswg-moers.de/event/speisen-aus-aller-welt-vereinsintern-3
LOCATION:Clubhaus am Waldsee\, Römerstr 790\, Moers\, 47443\, Deutschland
END:VEVENT
BEGIN:VEVENT
DTSTART;TZID=UTC:20251207T140000
DTEND;TZID=UTC:20251207T190000
DTSTAMP:20260420T095642
CREATED:20241207T100840Z
LAST-MODIFIED:20241207T100840Z
UID:24242-1765116000-1765134000@www.bswg-moers.de
SUMMARY:Adventtreffen am See (vereinsintern)
DESCRIPTION:Der Tannenbaum steht schon. Es gibt etwas Feines zu Essen und wir genießen einen gemütlichen Nachmittag miteinander.  Kompletten Beitrag lesen
URL:https://www.bswg-moers.de/event/adventtreffen-am-see-vereinsintern
LOCATION:Clubhaus am Waldsee\, Römerstr 790\, Moers\, 47443\, Deutschland
END:VEVENT
BEGIN:VEVENT
DTSTART;TZID=UTC:20251116T140000
DTEND;TZID=UTC:20251116T190000
DTSTAMP:20260420T095642
CREATED:20241207T100626Z
LAST-MODIFIED:20241207T100626Z
UID:24240-1763301600-1763319600@www.bswg-moers.de
SUMMARY:Spielen und Plaudern am See (vereinsintern)
DESCRIPTION:In Kontakt bleiben\, einen gemütlichen Nachmittag in fröhlicher Runde genießen.  Kompletten Beitrag lesen
URL:https://www.bswg-moers.de/event/spielen-und-plaudern-am-see-vereinsintern
LOCATION:Clubhaus am Waldsee\, Römerstr 790\, Moers\, 47443\, Deutschland
END:VEVENT
BEGIN:VEVENT
DTSTART;TZID=UTC:20251019T141500
DTEND;TZID=UTC:20251019T190000
DTSTAMP:20260420T095642
CREATED:20241207T100400Z
LAST-MODIFIED:20250908T124109Z
UID:24238-1760883300-1760900400@www.bswg-moers.de
SUMMARY:Abpaddeln (vereinsintern)
DESCRIPTION:Die Wassersportsaison ist zu Ende.  Wir treffen uns zum Plaudern und schauen auf die Saison 2025 zurück.  Kompletten Beitrag lesen
URL:https://www.bswg-moers.de/event/abpaddeln-vereinsintern-5
LOCATION:Clubhaus am Waldsee\, Römerstr 790\, Moers\, 47443\, Deutschland
END:VEVENT
BEGIN:VEVENT
DTSTART;VALUE=DATE:20251011
DTEND;VALUE=DATE:20251012
DTSTAMP:20260420T095642
CREATED:20241207T095554Z
LAST-MODIFIED:20250908T124350Z
UID:24234-1760140800-1760227199@www.bswg-moers.de
SUMMARY:Stadtführung in Rheinberg (vereinsintern)
DESCRIPTION:Auch das gehört zu den Aktivitäten der BSWG für seine Mitglieder und Freunde. Diesmal genießen wir eine Stadtführung in Rheinberg.  Kompletten Beitrag lesen
URL:https://www.bswg-moers.de/event/roemermuseum-in-xanten-vereinsintern
END:VEVENT
BEGIN:VEVENT
DTSTART;TZID=UTC:20250824T140000
DTEND;TZID=UTC:20250824T190000
DTSTAMP:20260420T095642
CREATED:20241207T095052Z
LAST-MODIFIED:20241207T095052Z
UID:24232-1756044000-1756062000@www.bswg-moers.de
SUMMARY:Alles aufs Wasser (vereinsintern)
DESCRIPTION:Tretboot\, Kajaks\, Paddelbretter\, Schwimmnudeln\, Luftmatratzen\, alles kommt ins Wasser. Jetzt müssen wir nur noch die Sonne einladen\, damit sie uns bei einem vergnügten Wasserspaßtag begleitet.  Kompletten Beitrag lesen
URL:https://www.bswg-moers.de/event/alles-aufs-wasser-vereinsintern
LOCATION:Clubhaus am Waldsee\, Römerstr 790\, Moers\, 47443\, Deutschland
END:VEVENT
BEGIN:VEVENT
DTSTART;TZID=UTC:20250809T120000
DTEND;TZID=UTC:20250809T190000
DTSTAMP:20260420T095642
CREATED:20241207T101932Z
LAST-MODIFIED:20241207T101932Z
UID:24248-1754740800-1754766000@www.bswg-moers.de
SUMMARY:Putz- und Aufräumtag (vereinsintern)
DESCRIPTION:Hochsommer. Die Paddelsaison ins in vollem Gange und unser Vereinsgelände und das Clubhaus brauchen wieder etwas Pflege und Wartung\, damit wir uns dort alle wohlfühlen.  Kompletten Beitrag lesen
URL:https://www.bswg-moers.de/event/putz-und-aufraeumtag-vereinsintern-15
LOCATION:Clubhaus am Waldsee\, Römerstr 790\, Moers\, 47443\, Deutschland
END:VEVENT
BEGIN:VEVENT
DTSTART;TZID=UTC:20250720T120000
DTEND;TZID=UTC:20250720T190000
DTSTAMP:20260420T095642
CREATED:20241207T101541Z
LAST-MODIFIED:20241207T101655Z
UID:24246-1753012800-1753038000@www.bswg-moers.de
SUMMARY:Spaßregatta (vereinsintern)
DESCRIPTION:Unsere traditionelle Spaßregatta steht an. Im Vordergrund steht allerdings nicht der sportliche Wettbewerb\, sondern die Freunde an gemeinsamen Spiel und Bewegung auf und am Wasser.  Kompletten Beitrag lesen
URL:https://www.bswg-moers.de/event/spassregatta-vereinsintern-5
LOCATION:Clubhaus am Waldsee\, Römerstr 790\, Moers\, 47443\, Deutschland
END:VEVENT
BEGIN:VEVENT
DTSTART;TZID=UTC:20250614T120000
DTEND;TZID=UTC:20250614T190000
DTSTAMP:20260420T095642
CREATED:20241207T093735Z
LAST-MODIFIED:20241207T093953Z
UID:24224-1749902400-1749927600@www.bswg-moers.de
SUMMARY:Putz- und Aufräumtag (vereinsintern)
DESCRIPTION:Es gibt sicherlich wieder einiges auf unserem Gelände und im Clubhaus zu tun.  Kompletten Beitrag lesen
URL:https://www.bswg-moers.de/event/putz-und-aufraeumtag-vereinsintern-12
LOCATION:Clubhaus am Waldsee\, Römerstr 790\, Moers\, 47443\, Deutschland
END:VEVENT
BEGIN:VEVENT
DTSTART;VALUE=DATE:20250524
DTEND;VALUE=DATE:20250525
DTSTAMP:20260420T095642
CREATED:20241207T093442Z
LAST-MODIFIED:20250320T100103Z
UID:24222-1748044800-1748131199@www.bswg-moers.de
SUMMARY:Aktionstag (vereinsintern)
DESCRIPTION:Wir planen einen Besuch des Römermuseums in Xanten.  Kompletten Beitrag lesen
URL:https://www.bswg-moers.de/event/aktionstag
LOCATION:Clubhaus am Waldsee\, Römerstr 790\, Moers\, 47443\, Deutschland
ORGANIZER;CN="Blinden und Sehbehinderten Wassersportgemeinschaft Moers e.V.":MAILTO:bswg-moers@t-online.de
END:VEVENT
BEGIN:VEVENT
DTSTART;TZID=UTC:20250405T120000
DTEND;TZID=UTC:20250405T190000
DTSTAMP:20260420T095642
CREATED:20241207T093300Z
LAST-MODIFIED:20241207T093325Z
UID:24219-1743854400-1743879600@www.bswg-moers.de
SUMMARY:Putz- und Aufräumtag (vereinsintern)
DESCRIPTION:Unser Vereinsgelände und das Wassersportmaterial brauchen regelmäßige Pflege\, damit wir eine schöne Saison erleben können.  Kompletten Beitrag lesen
URL:https://www.bswg-moers.de/event/putz-und-aufraeumtag-vereinsintern-11
END:VEVENT
BEGIN:VEVENT
DTSTART;TZID=UTC:20250323T141500
DTEND;TZID=UTC:20250323T190000
DTSTAMP:20260420T095642
CREATED:20241207T092911Z
LAST-MODIFIED:20241207T092911Z
UID:24217-1742739300-1742756400@www.bswg-moers.de
SUMMARY:Jahreshauptversammlung mit Anpaddeln (vereinsintern)
DESCRIPTION:Die Wassersportsaison wird eröffnet und beginnt mit unserer Jahreshauptversammlung. Hoffentlich stimmt das Wetter\, damit wir danach schon eine Paddelrunde auf dem See starten können.  Kompletten Beitrag lesen
URL:https://www.bswg-moers.de/event/jahreshauptversammlung-mit-anpaddeln-vereinsintern
LOCATION:Clubhaus am Waldsee\, Römerstr 790\, Moers\, 47443\, Deutschland
END:VEVENT
BEGIN:VEVENT
DTSTART;TZID=UTC:20250308T120000
DTEND;TZID=UTC:20250308T190000
DTSTAMP:20260420T095642
CREATED:20241207T092534Z
LAST-MODIFIED:20241207T092534Z
UID:24215-1741435200-1741460400@www.bswg-moers.de
SUMMARY:Putz- und Aufräumtag (vereinsintern)
DESCRIPTION:Bald startet die Wassersportsaison. Es gibt sicher einiges zu tun im Clubhaus und im Bootsschuppen. Frisch ans Werk!  Kompletten Beitrag lesen
URL:https://www.bswg-moers.de/event/putz-und-aufraeumtag-vereinsintern-10
LOCATION:Clubhaus am Waldsee\, Römerstr 790\, Moers\, 47443\, Deutschland
END:VEVENT
BEGIN:VEVENT
DTSTART;TZID=UTC:20250222T140000
DTEND;TZID=UTC:20250222T190000
DTSTAMP:20260420T095642
CREATED:20241207T092151Z
LAST-MODIFIED:20241207T092151Z
UID:24213-1740232800-1740250800@www.bswg-moers.de
SUMMARY:Speisen aus aller Welt (vereinsintern)
DESCRIPTION:Wir wollen bei köstlichen Speisen aus aller Welt einen gemütlichen Nachmittag verbringen.  Kompletten Beitrag lesen
URL:https://www.bswg-moers.de/event/speisen-aus-aller-welt-vereinsintern-2
LOCATION:Clubhaus am Waldsee\, Römerstr 790\, Moers\, 47443\, Deutschland
END:VEVENT
BEGIN:VEVENT
DTSTART;TZID=UTC:20250126T140000
DTEND;TZID=UTC:20250126T140000
DTSTAMP:20260420T095642
CREATED:20241207T091715Z
LAST-MODIFIED:20241207T091715Z
UID:24211-1737900000-1737900000@www.bswg-moers.de
SUMMARY:Schrottwichteln und Spielenachmittag (vereinsintern)
DESCRIPTION:Angekommen im neuen Jahr wollen wir uns zu einem vergnügtem Austausch  treffen.  Kompletten Beitrag lesen
URL:https://www.bswg-moers.de/event/schrottwichteln-und-spielenachmittag-vereinsintern
LOCATION:Clubhaus am Waldsee\, Römerstr 790\, Moers\, 47443\, Deutschland
END:VEVENT
BEGIN:VEVENT
DTSTART;TZID=UTC:20241231T190000
DTEND;TZID=UTC:20250101T030000
DTSTAMP:20260420T095642
CREATED:20231121T173544Z
LAST-MODIFIED:20240106T151830Z
UID:24020-1735671600-1735700400@www.bswg-moers.de
SUMMARY:Silvesterfeier (vereinsintern)
DESCRIPTION:Eine liebevoll gepflegte Tradition ist es\, den Jahreswechsel am Waldsee zu verbringen und auf der Halde unter dem Geleucht auf das neue Jahr anzustoßen.  Kompletten Beitrag lesen
URL:https://www.bswg-moers.de/event/silvesterfeier-vereinsintern-3
LOCATION:Clubhaus am Waldsee\, Römerstr 790\, Moers\, 47443\, Deutschland
ORGANIZER;CN="Blinden und Sehbehinderten Wassersportgemeinschaft Moers e.V.":MAILTO:bswg-moers@t-online.de
END:VEVENT
BEGIN:VEVENT
DTSTART;TZID=UTC:20241201T140000
DTEND;TZID=UTC:20241201T183000
DTSTAMP:20260420T095642
CREATED:20231121T173233Z
LAST-MODIFIED:20231121T173955Z
UID:24018-1733061600-1733077800@www.bswg-moers.de
SUMMARY:Adventtreffen mit Leckereien (vereinsintern)
DESCRIPTION:Mit weihnachtlichem Gebäck\, Kaffee und Glühwein wollen wir den Nachmittag genießen.  Kompletten Beitrag lesen
URL:https://www.bswg-moers.de/event/adventtreffen-mit-leckereien-vereinsintern-3
LOCATION:Clubhaus am Waldsee\, Römerstr 790\, Moers\, 47443\, Deutschland
ORGANIZER;CN="Blinden und Sehbehinderten Wassersportgemeinschaft Moers e.V.":MAILTO:bswg-moers@t-online.de
END:VEVENT
BEGIN:VEVENT
DTSTART;TZID=UTC:20241117T140000
DTEND;TZID=UTC:20241117T183000
DTSTAMP:20260420T095642
CREATED:20231121T172837Z
LAST-MODIFIED:20231121T172837Z
UID:24014-1731852000-1731868200@www.bswg-moers.de
SUMMARY:Treffen am See\, spielen und plaudern (vereinsintern)
DESCRIPTION:In Kontakt bleiben\, auch in der kalten Jahreszeit. Erzählen\, lachen \, spielen….und sicherlich etwas leckeres essen.  Kompletten Beitrag lesen
URL:https://www.bswg-moers.de/event/treffen-am-see-spielen-und-plaudern-vereinsintern
LOCATION:Clubhaus am Waldsee\, Römerstr 790\, Moers\, 47443\, Deutschland
ORGANIZER;CN="Blinden und Sehbehinderten Wassersportgemeinschaft Moers e.V.":MAILTO:bswg-moers@t-online.de
END:VEVENT
BEGIN:VEVENT
DTSTART;TZID=UTC:20241027T141500
DTEND;TZID=UTC:20241027T183000
DTSTAMP:20260420T095642
CREATED:20231121T172621Z
LAST-MODIFIED:20240106T151700Z
UID:24012-1730038500-1730053800@www.bswg-moers.de
SUMMARY:Abpaddeln (vereinsintern)
DESCRIPTION:Das Ende der Wassersportsaison ist da. Wir schauen zurück auf die Saison und vielleicht haben wir schon Ideen für das nächste Jahr.  Kompletten Beitrag lesen
URL:https://www.bswg-moers.de/event/abpaddeln-vereinsintern-4
ORGANIZER;CN="Blinden und Sehbehinderten Wassersportgemeinschaft Moers e.V.":MAILTO:bswg-moers@t-online.de
END:VEVENT
BEGIN:VEVENT
DTSTART;TZID=UTC:20240928T120000
DTEND;TZID=UTC:20240928T170000
DTSTAMP:20260420T095642
CREATED:20231121T172351Z
LAST-MODIFIED:20240106T151616Z
UID:24010-1727524800-1727542800@www.bswg-moers.de
SUMMARY:Putz- und Aufräumtag (vereinsintern)
DESCRIPTION:Und schon ist es wieder so weit. Bald endet die Saison und Clubhaus\, Sportgeräte und Grundstück benötigen Pflege vor der Winterpause.  Kompletten Beitrag lesen
URL:https://www.bswg-moers.de/event/putz-und-aufraeumtag-vereinsintern-9
LOCATION:Clubhaus am Waldsee\, Römerstr 790\, Moers\, 47443\, Deutschland
ORGANIZER;CN="Blinden und Sehbehinderten Wassersportgemeinschaft Moers e.V.":MAILTO:bswg-moers@t-online.de
END:VEVENT
BEGIN:VEVENT
DTSTART;TZID=UTC:20240824T140000
DTEND;TZID=UTC:20240824T183000
DTSTAMP:20260420T095642
CREATED:20231121T172013Z
LAST-MODIFIED:20231121T173626Z
UID:24008-1724508000-1724524200@www.bswg-moers.de
SUMMARY:Treffen am See (vereinsintern)
DESCRIPTION:Bevor der Herbst kommt und die Saison endet miteinander Freude am und auf dem Wasser erleben.  Kompletten Beitrag lesen
URL:https://www.bswg-moers.de/event/treffen-am-see
LOCATION:Clubhaus am Waldsee\, Römerstr 790\, Moers\, 47443\, Deutschland
ORGANIZER;CN="Blinden und Sehbehinderten Wassersportgemeinschaft Moers e.V.":MAILTO:bswg-moers@t-online.de
END:VEVENT
BEGIN:VEVENT
DTSTART;TZID=UTC:20240720T120000
DTEND;TZID=UTC:20240720T170000
DTSTAMP:20260420T095642
CREATED:20231121T171715Z
LAST-MODIFIED:20240106T151508Z
UID:24006-1721476800-1721494800@www.bswg-moers.de
SUMMARY:Putz- und Aufräumtag (vereinsintern)
DESCRIPTION:Unser Gelände\, das Clubhaus und die Sportgeräte benötigen Pflege. Mit vereinten Kräften geht das prima.  Kompletten Beitrag lesen
URL:https://www.bswg-moers.de/event/putz-und-aufraeumtag-vereinsintern-8
LOCATION:Clubhaus am Waldsee\, Römerstr 790\, Moers\, 47443\, Deutschland
ORGANIZER;CN="Blinden und Sehbehinderten Wassersportgemeinschaft Moers e.V.":MAILTO:bswg-moers@t-online.de
END:VEVENT
BEGIN:VEVENT
DTSTART;TZID=UTC:20240623T120000
DTEND;TZID=UTC:20240623T183000
DTSTAMP:20260420T095642
CREATED:20231121T171424Z
LAST-MODIFIED:20240106T151422Z
UID:24004-1719144000-1719167400@www.bswg-moers.de
SUMMARY:Spaßregatta (vereinsintern)
DESCRIPTION:Ein Tag mit Spaß und Sport\, zu Lande und zu Wasser.  Kompletten Beitrag lesen
URL:https://www.bswg-moers.de/event/spassregatta-vereinsintern-3
LOCATION:Clubhaus am Waldsee\, Römerstr 790\, Moers\, 47443\, Deutschland
ORGANIZER;CN="Blinden und Sehbehinderten Wassersportgemeinschaft Moers e.V.":MAILTO:bswg-moers@t-online.de
END:VEVENT
BEGIN:VEVENT
DTSTART;TZID=UTC:20240413T120000
DTEND;TZID=UTC:20240413T170000
DTSTAMP:20260420T095642
CREATED:20231121T171141Z
LAST-MODIFIED:20240106T151335Z
UID:24002-1713009600-1713027600@www.bswg-moers.de
SUMMARY:Putz- und Aufräumtag (vereinsintern)
DESCRIPTION:Clubhaus\, Sportgeräte und Vereinsgelände brauchen einen Frühjahrsputz.  Mit vielen fleißigen Händen geht das ganz fix.  Kompletten Beitrag lesen
URL:https://www.bswg-moers.de/event/putz-und-aufraeumtag-vereinsintern-7
LOCATION:Clubhaus am Waldsee\, Römerstr 790\, Moers\, 47443\, Deutschland
ORGANIZER;CN="Blinden und Sehbehinderten Wassersportgemeinschaft Moers e.V.":MAILTO:bswg-moers@t-online.de
END:VEVENT
BEGIN:VEVENT
DTSTART;TZID=UTC:20240324T141500
DTEND;TZID=UTC:20240324T183000
DTSTAMP:20260420T095642
CREATED:20231121T170754Z
LAST-MODIFIED:20240106T151212Z
UID:24000-1711289700-1711305000@www.bswg-moers.de
SUMMARY:Anpaddeln mit Jahreshauptversammlung (vereinsintern)
DESCRIPTION:Die Paddelsaison beginnt und gleichzeitig veranstalten wir unsere Jahreshauptversammlung.  Kompletten Beitrag lesen
URL:https://www.bswg-moers.de/event/anpaddeln-mit-jahreshauptversammlung-vereinsintern
LOCATION:Clubhaus am Waldsee\, Römerstr 790\, Moers\, 47443\, Deutschland
ORGANIZER;CN="Blinden und Sehbehinderten Wassersportgemeinschaft Moers e.V.":MAILTO:bswg-moers@t-online.de
END:VEVENT
BEGIN:VEVENT
DTSTART;TZID=UTC:20240218T140000
DTEND;TZID=UTC:20240218T183000
DTSTAMP:20260420T095642
CREATED:20231121T170552Z
LAST-MODIFIED:20231121T170552Z
UID:23998-1708264800-1708281000@www.bswg-moers.de
SUMMARY:Speisen aus aller Welt (vereinsintern)
DESCRIPTION:Bei gutem Essen und Getränken Pläne für die kommende Paddelsaison schmieden.  Kompletten Beitrag lesen
URL:https://www.bswg-moers.de/event/speisen-aus-aller-welt-vereinsintern
LOCATION:Clubhaus am Waldsee\, Römerstr 790\, Moers\, 47443\, Deutschland
ORGANIZER;CN="Blinden und Sehbehinderten Wassersportgemeinschaft Moers e.V.":MAILTO:bswg-moers@t-online.de
END:VEVENT
END:VCALENDAR